BEGIN:VCALENDAR
VERSION:2.0
PRODID:-//https://www.ischiaeventi.com///NONSGML kigkonsult.se iCalcreator 2.10.15//
METHOD:PUBLISH
BEGIN:VEVENT
UID:20260424T105541UTC-5556HZ12nT@https://www.ischiaeventi.com/
DTSTAMP:20260424T105541Z
DESCRIPTION:Mater: quel sì che ha camniato la storia\, coro Polifonico http
 s://www.ischiaeventi.com/en/events/tradizioni/religious-and-patronal-festi
 vals/event/77189-mater-quel-si-che-ha-camniato-la-storia
DTSTART:20250524T183000Z
DTEND:20250524T200000Z
LOCATION:Basilica di Santa Restituta (Piazza San Restituta\, 1\, 80076 Lacc
 o Ameno NA\, Italia)
SUMMARY:Mater: quel sì che ha camniato la storia
URL:https://www.ischiaeventi.com/en/events/tradizioni/religious-and-patrona
 l-festivals/event/77189-mater-quel-si-che-ha-camniato-la-storia
END:VEVENT
END:VCALENDAR
