BEGIN:VCALENDAR
VERSION:2.0
PRODID:-//https://www.ischiaeventi.com///NONSGML kigkonsult.se iCalcreator 2.10.15//
METHOD:PUBLISH
BEGIN:VEVENT
UID:20260424T093351UTC-8223WsW31w@https://www.ischiaeventi.com/
DTSTAMP:20260424T093351Z
DESCRIPTION:La magica vecchina arriva in trenino. intrattenimento per bambi
 ni ed attrazioni a cura dell'Associazione Teatro Mobile Nazionale https://
 www.ischiaeventi.com/en/events/tradizioni/religious-and-patronal-festivals
 /event/38253-lacco-ameno-in-canti-di-natale-evviva-la-befana
DTSTART:20250106T090000Z
DTEND:20250106T120000Z
LOCATION:Piazza S. Restituta (Piazza Santa Restituta\, 80076 Lacco Ameno NA
 \, Italia)
SUMMARY:Lacco Ameno In-canti di Natale: Evviva la Befana!
URL:https://www.ischiaeventi.com/en/events/tradizioni/religious-and-patrona
 l-festivals/event/38253-lacco-ameno-in-canti-di-natale-evviva-la-befana
END:VEVENT
END:VCALENDAR
