BEGIN:VCALENDAR
VERSION:2.0
PRODID:-//https://www.ischiaeventi.com///NONSGML kigkonsult.se iCalcreator 2.10.15//
METHOD:PUBLISH
BEGIN:VEVENT
UID:20260424T123023UTC-9915IbfSUn@https://www.ischiaeventi.com/
DTSTAMP:20260424T123023Z
DESCRIPTION:Capodanno Napoletano Concerto a cura dell'orchestra 'La Ghirond
 a* https://www.ischiaeventi.com/en/events/tradizioni/religious-and-patrona
 l-festivals/event/38250-lacco-ameno-in-canti-di-natale-capodanno-napoletan
 o
DTSTART:20250101T163000Z
DTEND:20250101T180000Z
LOCATION:Auditorium Leonardo Carriero (Via Onofrio Messer 47\, 80076\, Lacc
 o Ameno\, Napoli)
SUMMARY:Lacco Ameno In-canti di Natale: Capodanno Napoletano
URL:https://www.ischiaeventi.com/en/events/tradizioni/religious-and-patrona
 l-festivals/event/38250-lacco-ameno-in-canti-di-natale-capodanno-napoletan
 o
END:VEVENT
END:VCALENDAR
