BEGIN:VCALENDAR
VERSION:2.0
PRODID:-//https://www.ischiaeventi.com///NONSGML kigkonsult.se iCalcreator 2.10.15//
METHOD:PUBLISH
BEGIN:VEVENT
UID:20260424T111552UTC-3470LmuCVS@https://www.ischiaeventi.com/
DTSTAMP:20260424T111552Z
DESCRIPTION:Spettacolo del M° Peppe Barra ispirato alla celebre Cantata dei
  Pastori. Con Angela Luglio ‘ed Enrico Vicinanza https://www.ischiaeventi.
 com/en/events/tradizioni/religious-and-patronal-festivals/event/38244-lacc
 o-ameno-in-canti-di-natale-incanto-di-natale-spettacolo-del-m-peppe-barra
DTSTART:20241223T180000Z
DTEND:20241223T200000Z
LOCATION:Basilica di Santa Restituta (Piazza San Restituta\, 1\, 80076 Lacc
 o Ameno NA\, Italia)
SUMMARY:Lacco Ameno In-canti di Natale: Incanto di Natale Spettacolo del  M
 ° Peppe Barra
URL:https://www.ischiaeventi.com/en/events/tradizioni/religious-and-patrona
 l-festivals/event/38244-lacco-ameno-in-canti-di-natale-incanto-di-natale-s
 pettacolo-del-m-peppe-barra
END:VEVENT
END:VCALENDAR
