BEGIN:VCALENDAR
VERSION:2.0
PRODID:-//https://www.ischiaeventi.com///NONSGML kigkonsult.se iCalcreator 2.10.15//
METHOD:PUBLISH
BEGIN:VEVENT
UID:20260424T111525UTC-2548u6NDvj@https://www.ischiaeventi.com/
DTSTAMP:20260424T111525Z
DESCRIPTION:Concerto degli alliavi dell'Accademia musicale “Note sul mare” 
 https://www.ischiaeventi.com/en/events/tradizioni/religious-and-patronal-f
 estivals/event/38237-lacco-ameno-in-canti-di-natale-christmas-concert-2024
DTSTART:20241215T173000Z
DTEND:20241215T193000Z
LOCATION:Sala consigliare Comune di Lacco Ameno (Piazza Santa Restituta 1\,
  80076 Lacco Ameno NA)
SUMMARY:Lacco Ameno In-canti di Natale:Christmas Concert 2024
URL:https://www.ischiaeventi.com/en/events/tradizioni/religious-and-patrona
 l-festivals/event/38237-lacco-ameno-in-canti-di-natale-christmas-concert-2
 024
END:VEVENT
END:VCALENDAR
