BEGIN:VCALENDAR
VERSION:2.0
PRODID:-//https://www.ischiaeventi.com///NONSGML kigkonsult.se iCalcreator 2.10.15//
METHOD:PUBLISH
BEGIN:VEVENT
UID:20260424T121230UTC-22926GV09C@https://www.ischiaeventi.com/
DTSTAMP:20260424T121230Z
DESCRIPTION:Arriva la Befana per i più piccoli SERRARA FONTANA https://www.
 ischiaeventi.com/en/events/tradizioni/religious-and-patronal-festivals/eve
 nt/36893-mare-copp-mas-arriva-la-befana
DTSTART:20250106T093000Z
DTEND:20250106T145900Z
LOCATION:Comune di Serrara Fontana (Via Roma\, 79\, 80070 Serrara Fontana N
 A\, Italia)
SUMMARY:Mare Copp Mas: Arriva la Befana
URL:https://www.ischiaeventi.com/en/events/tradizioni/religious-and-patrona
 l-festivals/event/36893-mare-copp-mas-arriva-la-befana
END:VEVENT
END:VCALENDAR
