BEGIN:VCALENDAR
VERSION:2.0
PRODID:-//https://www.ischiaeventi.com///NONSGML kigkonsult.se iCalcreator 2.10.15//
METHOD:PUBLISH
BEGIN:VEVENT
UID:20260424T121214UTC-5177U2UuHc@https://www.ischiaeventi.com/
DTSTAMP:20260424T121214Z
DESCRIPTION:Antico Borgo di Noia ore 16.00 Presepe vivente a cura di Regina
  di Fiori https://www.ischiaeventi.com/en/events/tradizioni/religious-and-
 patronal-festivals/event/36889-mare-copp-mas-presepe-vivente
DTSTART:20241227T150000Z
DTEND:20241227T180000Z
LOCATION:Borgo di Noia\, Serrara Fontana (80070 Serrara Fontana NA\, Italia
 )
SUMMARY:Mare Copp Mas: Presepe vivente
URL:https://www.ischiaeventi.com/en/events/tradizioni/religious-and-patrona
 l-festivals/event/36889-mare-copp-mas-presepe-vivente
END:VEVENT
END:VCALENDAR
