BEGIN:VCALENDAR
VERSION:2.0
PRODID:-//https://www.ischiaeventi.com///NONSGML kigkonsult.se iCalcreator 2.10.15//
METHOD:PUBLISH
BEGIN:VEVENT
UID:20260424T111348UTC-65551n4hpu@https://www.ischiaeventi.com/
DTSTAMP:20260424T111348Z
DESCRIPTION:Libere riflessioni intorno alla figura di Angelo RizzoliDi e co
 n Giuseppe laconoProgetto incluso nel cartellone degli Eventi Metropolitan
 i https://www.ischiaeventi.com/en/events/tradizioni/religious-and-patronal
 -festivals/event/32311-estate-insieme-lacco-ameno-omaggio-ad-angelo-rizzol
 i
DTSTART:20240906T190000Z
DTEND:20240906T210000Z
LOCATION:Villa Arbusto museum (Corso Angelo Rizzoli\, 194\, 80076 Lacco Ame
 no NA\, Italia)
SUMMARY:Estate insieme Lacco Ameno: Omaggio ad Angelo Rizzoli
URL:https://www.ischiaeventi.com/en/events/tradizioni/religious-and-patrona
 l-festivals/event/32311-estate-insieme-lacco-ameno-omaggio-ad-angelo-rizzo
 li
END:VEVENT
END:VCALENDAR
