BEGIN:VCALENDAR
VERSION:2.0
PRODID:-//https://www.ischiaeventi.com///NONSGML kigkonsult.se iCalcreator 2.10.15//
METHOD:PUBLISH
BEGIN:VEVENT
UID:20260424T111612UTC-8235Vi89Id@https://www.ischiaeventi.com/
DTSTAMP:20260424T111612Z
DESCRIPTION:In collaborazione con I Giardini La Mortella e la direzione art
 istica dell'archeologa Mariangela Catuogno https://www.ischiaeventi.com/en
 /events/tradizioni/religious-and-patronal-festivals/event/32310-estate-ins
 ieme-lacco-ameno-kepos-incontri-su-archeologia-e-paesaggio-dal-levante-ad-
 ischia-un-mediterraneo-condiviso
DTSTART:20240905T173000Z
DTEND:20240905T190000Z
LOCATION:Villa Arbusto museum (Corso Angelo Rizzoli\, 194\, 80076 Lacco Ame
 no NA\, Italia)
SUMMARY:Estate insieme Lacco Ameno: Kepos INCONTRI SU ARCHEOLOGIA E PAESAGG
 IO 'DAL LEVANTE AD ISCHIA\, UN MEDITERRANEO CONDIVISO
URL:https://www.ischiaeventi.com/en/events/tradizioni/religious-and-patrona
 l-festivals/event/32310-estate-insieme-lacco-ameno-kepos-incontri-su-arche
 ologia-e-paesaggio-dal-levante-ad-ischia-un-mediterraneo-condiviso
END:VEVENT
END:VCALENDAR
