BEGIN:VCALENDAR
VERSION:2.0
PRODID:-//https://www.ischiaeventi.com///NONSGML kigkonsult.se iCalcreator 2.10.15//
METHOD:PUBLISH
BEGIN:VEVENT
UID:20260424T093242UTC-18434LpmfW@https://www.ischiaeventi.com/
DTSTAMP:20260424T093242Z
DESCRIPTION:ALESSANDRO LANZONI TRIO FEAT. FRANCESCO CAFISO ALESSANDRO LANZO
 NI - PIANO MATTEO BORTONE - BASSO FRANCESCO CAFISO - SAXEURO 40\,00 INCL. 
 PREV.ENRICO MORELLO - BATTERIA\nAbbonamenti alle serate 100 euro\nPREVENDI
 TENEGOMBO 081986152LIBRERIA IMAGAENARIA 081985632RVSTICA DOMVS 081992100TI
 CKET ONLINEWWW.AZZURROSERVICE.NET INFO: 3358110629 WWW.PIANOEJAZZ.IT https
 ://www.ischiaeventi.com/en/events/tradizioni/religious-and-patronal-festiv
 als/event/31899-piano-jazz-ischia-alessandro-lanzoni-trio-feat-francesco-c
 afiso
DTSTART:20240828T200000Z
DTEND:20240828T215900Z
LOCATION:Auditorium Leonardo Carriero (Via Onofrio Messer 47\, 80076\, Lacc
 o Ameno\, Napoli)
SUMMARY:Piano&Jazz Ischia: Alessandro Lanzoni trio feat. Francesco Cafiso 
URL:https://www.ischiaeventi.com/en/events/tradizioni/religious-and-patrona
 l-festivals/event/31899-piano-jazz-ischia-alessandro-lanzoni-trio-feat-fra
 ncesco-cafiso
END:VEVENT
END:VCALENDAR
