BEGIN:VCALENDAR
VERSION:2.0
PRODID:-//https://www.ischiaeventi.com///NONSGML kigkonsult.se iCalcreator 2.10.15//
METHOD:PUBLISH
BEGIN:VEVENT
UID:20260424T103035UTC-5031leZT6D@https://www.ischiaeventi.com/
DTSTAMP:20260424T103035Z
DESCRIPTION:Sabato ritorna la Pinetella\, il tempio del revival  https://ww
 w.ischiaeventi.com/en/events/tradizioni/religious-and-patronal-festivals/e
 vent/31866-la-pinetella
DTSTART:20240824T180000Z
DTEND:20240824T215900Z
LOCATION:Pineta di Fiaiano (Via Montagna\, 73\, 80077 Ischia NA\, Italia)
SUMMARY:La Pinetella
URL:https://www.ischiaeventi.com/en/events/tradizioni/religious-and-patrona
 l-festivals/event/31866-la-pinetella
END:VEVENT
END:VCALENDAR
