BEGIN:VCALENDAR
VERSION:2.0
PRODID:-//https://www.ischiaeventi.com///NONSGML kigkonsult.se iCalcreator 2.10.15//
METHOD:PUBLISH
BEGIN:VEVENT
UID:20260424T135503UTC-6287BmCrZ8@https://www.ischiaeventi.com/
DTSTAMP:20260424T135503Z
DESCRIPTION:Suggestivo concerto di fisarmoniche a cura dell'Associazione No
 te sul mare https://www.ischiaeventi.com/en/events/tradizioni/religious-an
 d-patronal-festivals/event/31653-e-state-insieme-a-lacco-ameno-not-te-sul-
 mare-2024
DTSTART:20240811T193000Z
DTEND:20240811T212300Z
LOCATION:Scogliera Lido Caronte (Corso Angelo Rizzoli\, 98\, 80076 Lacco Am
 eno NA\, Italia)
SUMMARY:E-state insieme a Lacco Ameno: Not(te) sul mare 2024
URL:https://www.ischiaeventi.com/en/events/tradizioni/religious-and-patrona
 l-festivals/event/31653-e-state-insieme-a-lacco-ameno-not-te-sul-mare-2024
END:VEVENT
END:VCALENDAR
