BEGIN:VCALENDAR
VERSION:2.0
PRODID:-//https://www.ischiaeventi.com///NONSGML kigkonsult.se iCalcreator 2.10.15//
METHOD:PUBLISH
BEGIN:VEVENT
UID:20260424T093521UTC-7671jsN0Pp@https://www.ischiaeventi.com/
DTSTAMP:20260424T093521Z
DESCRIPTION:Presentazione dei Percorsi culturali “LaccOnArt” e del progetto
  di mobilità sostenibile “Ti porto io' con aperitivo gastronomico e intrat
 tenimento musicale a cura di Giovanni Apetino e Michelangelo Ferrandino\nP
 ercorso architettonico e di cultura immateriale\, a cura della dott.ssa Ma
 riangela Catuogno https://www.ischiaeventi.com/en/events/tradizioni/religi
 ous-and-patronal-festivals/event/27738-natale-insieme-a-lacco-ameno-presen
 tazione-dei-percorsi-culturali-lacconart
DTSTART:20231230T150000Z
DTEND:20231230T160000Z
LOCATION:Piazza Capitello  (Piazza Salvatore Girardi\, 1\, 80076 Lacco Amen
 o NA\, Italia)
SUMMARY:NATALE INSIEME A LACCO AMENO: Presentazione dei Percorsi culturali 
 “LaccOnArt”
URL:https://www.ischiaeventi.com/en/events/tradizioni/religious-and-patrona
 l-festivals/event/27738-natale-insieme-a-lacco-ameno-presentazione-dei-per
 corsi-culturali-lacconart
END:VEVENT
END:VCALENDAR
