BEGIN:VCALENDAR
VERSION:2.0
PRODID:-//https://www.ischiaeventi.com///NONSGML kigkonsult.se iCalcreator 2.10.15//
METHOD:PUBLISH
BEGIN:VEVENT
UID:20260424T075658UTC-9305kRx4XN@https://www.ischiaeventi.com/
DTSTAMP:20260424T075658Z
DESCRIPTION:Stations of the Cross through the Saracen Alleyways https://www
 .ischiaeventi.com/en/events/tradizioni/religious-and-patronal-festivals/ev
 ent/249690-solemn-seven-day-devotion-in-honor-of-our-lady-of-sorrows
DTSTART:20260324T183000Z
DTEND:20260324T203000Z
LOCATION:Forio d’Ischia (80075 Forio NA\, Italia)
SUMMARY:Solemn Seven-Day Devotion in Honor of Our Lady of Sorrows
URL:https://www.ischiaeventi.com/en/events/tradizioni/religious-and-patrona
 l-festivals/event/249690-solemn-seven-day-devotion-in-honor-of-our-lady-of
 -sorrows
END:VEVENT
END:VCALENDAR
