BEGIN:VCALENDAR
VERSION:2.0
PRODID:-//https://www.ischiaeventi.com///NONSGML kigkonsult.se iCalcreator 2.10.15//
METHOD:PUBLISH
BEGIN:VEVENT
UID:20260424T092804UTC-5769CDDCTI@https://www.ischiaeventi.com/
DTSTAMP:20260424T092804Z
DESCRIPTION:Procession with the image of Saint Joseph through the streets o
 f the Fango area\, accompanied by the musical band “Aurora” of the City of
  Panza\; upon return\, Holy Mass.\n9:00 PM – Fireworks display at the Fang
 o location\, organized by Ischia Pirica. https://www.ischiaeventi.com/en/e
 vents/tradizioni/religious-and-patronal-festivals/event/249641-celebration
 s-in-honor-of-saint-joseph-procession-and-fireworks
DTSTART:20260319T160000Z
DTEND:20260319T210000Z
LOCATION:Lacco Ameno (Piazza Santa Restituta\, 80076 Lacco Ameno NA\, Itali
 a)
SUMMARY:Celebrations in honor of Saint Joseph: procession and fireworks
URL:https://www.ischiaeventi.com/en/events/tradizioni/religious-and-patrona
 l-festivals/event/249641-celebrations-in-honor-of-saint-joseph-procession-
 and-fireworks
END:VEVENT
END:VCALENDAR
