BEGIN:VCALENDAR
VERSION:2.0
PRODID:-//https://www.ischiaeventi.com///NONSGML kigkonsult.se iCalcreator 2.10.15//
METHOD:PUBLISH
BEGIN:VEVENT
UID:20260424T135034UTC-0036um27Iv@https://www.ischiaeventi.com/
DTSTAMP:20260424T135034Z
DESCRIPTION:Celebration of the New Year’s Holy Mass\, followed by a process
 ion and blessing of the town. https://www.ischiaeventi.com/en/events/tradi
 zioni/religious-and-patronal-festivals/event/249215-christmas-in-serrara-h
 appy-2026
DTSTART:20260101T170000Z
DTEND:20260101T190000Z
LOCATION:Comune di Serrara Fontana (Via Roma\, 79\, 80070 Serrara Fontana N
 A\, Italia)
SUMMARY:Christmas in Serrara: Happy 2026!
URL:https://www.ischiaeventi.com/en/events/tradizioni/religious-and-patrona
 l-festivals/event/249215-christmas-in-serrara-happy-2026
END:VEVENT
END:VCALENDAR
