BEGIN:VCALENDAR
VERSION:2.0
PRODID:-//https://www.ischiaeventi.com///NONSGML kigkonsult.se iCalcreator 2.10.15//
METHOD:PUBLISH
BEGIN:VEVENT
UID:20260424T172632UTC-0140vMUUXU@https://www.ischiaeventi.com/
DTSTAMP:20260424T172632Z
DESCRIPTION:In Piazza Pietro Paolo Iacono\, with inflatables\, music\, and 
 games for children\, organized by Azzurra Spettacoli. https://www.ischiaev
 enti.com/en/events/tradizioni/religious-and-patronal-festivals/event/24921
 4-christmas-in-serrara-santa-claus-village
DTSTART:20251229T100000Z
DTEND:20251229T120000Z
LOCATION:Comune di Serrara Fontana (Via Roma\, 79\, 80070 Serrara Fontana N
 A\, Italia)
SUMMARY:Christmas in Serrara: Santa Claus Village
URL:https://www.ischiaeventi.com/en/events/tradizioni/religious-and-patrona
 l-festivals/event/249214-christmas-in-serrara-santa-claus-village
END:VEVENT
END:VCALENDAR
