BEGIN:VCALENDAR
VERSION:2.0
PRODID:-//https://www.ischiaeventi.com///NONSGML kigkonsult.se iCalcreator 2.10.15//
METHOD:PUBLISH
BEGIN:VEVENT
UID:20260424T121711UTC-1248Z2r8cv@https://www.ischiaeventi.com/
DTSTAMP:20260424T121711Z
DESCRIPTION:Living Nativity 'Nascett u' Ciglio'\, in Via Pedicuozzo and the
  small square\, with the participation of the Zampognari Group of Esperia\
 , organized by the Rectory of Santa Maria Assunta al Ciglio and the Parish
  of St. Mary of Mount Carmel. https://www.ischiaeventi.com/en/events/tradi
 zioni/religious-and-patronal-festivals/event/249211-christmas-in-serrara-l
 iving-nativity-nascett-u-ciglio
DTSTART:20251226T160000Z
DTEND:20251226T180000Z
LOCATION:Comune di Serrara Fontana (Via Roma\, 79\, 80070 Serrara Fontana N
 A\, Italia)
SUMMARY:Christmas in Serrara: Living Nativity 'Nascett u' Ciglio'
URL:https://www.ischiaeventi.com/en/events/tradizioni/religious-and-patrona
 l-festivals/event/249211-christmas-in-serrara-living-nativity-nascett-u-ci
 glio
END:VEVENT
END:VCALENDAR
