BEGIN:VCALENDAR
VERSION:2.0
PRODID:-//https://www.ischiaeventi.com///NONSGML kigkonsult.se iCalcreator 2.10.15//
METHOD:PUBLISH
BEGIN:VEVENT
UID:20260424T135305UTC-6199SLUZU1@https://www.ischiaeventi.com/
DTSTAMP:20260424T135305Z
DESCRIPTION:Theatrical Comedy 'Nu Bambenielle tre San Giuseppe' by Gaetano 
 Di Maio\, organized by the Teatro da Tre Soldi company. https://www.ischia
 eventi.com/en/events/tradizioni/religious-and-patronal-festivals/event/249
 210-christmas-in-serrara-nu-bambenielle-tre-san-giuseppe
DTSTART:20251225T180000Z
DTEND:20251226T200000Z
LOCATION:Comune di Serrara Fontana (Via Roma\, 79\, 80070 Serrara Fontana N
 A\, Italia)
SUMMARY:Christmas in Serrara: 'Nu Bambenielle tre San Giuseppe'
URL:https://www.ischiaeventi.com/en/events/tradizioni/religious-and-patrona
 l-festivals/event/249210-christmas-in-serrara-nu-bambenielle-tre-san-giuse
 ppe
END:VEVENT
END:VCALENDAR
