BEGIN:VCALENDAR
VERSION:2.0
PRODID:-//https://www.ischiaeventi.com///NONSGML kigkonsult.se iCalcreator 2.10.15//
METHOD:PUBLISH
BEGIN:VEVENT
UID:20260420T140748UTC-0695nGnbBc@https://www.ischiaeventi.com/
DTSTAMP:20260420T140748Z
DESCRIPTION:Mostra Veranica Acunto\nIngresso Libero\n&nbsp\; https://www.is
 chiaeventi.com/en/events/tradizioni/gastronomy/event/68478-mostra-veronica
 -acunto
DTSTART:20250508T173000Z
DTEND:20250508T190000Z
LOCATION:Villa Arbusto museum (Corso Angelo Rizzoli\, 194\, 80076 Lacco Ame
 no NA\, Italia)
SUMMARY:Mostra Veronica Acunto
URL:https://www.ischiaeventi.com/en/events/tradizioni/gastronomy/event/6847
 8-mostra-veronica-acunto
END:VEVENT
END:VCALENDAR
