BEGIN:VCALENDAR
VERSION:2.0
PRODID:-//https://www.ischiaeventi.com///NONSGML kigkonsult.se iCalcreator 2.10.15//
METHOD:PUBLISH
BEGIN:VEVENT
UID:20260420T130419UTC-2364XnE5WN@https://www.ischiaeventi.com/
DTSTAMP:20260420T130419Z
DESCRIPTION:Una notte al museo https://www.ischiaeventi.com/en/events/tradi
 zioni/gastronomy/event/31701-una-notte-al-museo
DTSTART:20240806T183000Z
DTEND:20240806T213000Z
LOCATION:Villa Arbusto museum (Corso Angelo Rizzoli\, 194\, 80076 Lacco Ame
 no NA\, Italia)
SUMMARY:Una notte al museo
URL:https://www.ischiaeventi.com/en/events/tradizioni/gastronomy/event/3170
 1-una-notte-al-museo
END:VEVENT
END:VCALENDAR
