BEGIN:VCALENDAR
VERSION:2.0
PRODID:-//https://www.ischiaeventi.com///NONSGML kigkonsult.se iCalcreator 2.10.15//
METHOD:PUBLISH
BEGIN:VEVENT
UID:20260420T143629UTC-8441GnudVn@https://www.ischiaeventi.com/
DTSTAMP:20260420T143629Z
DESCRIPTION:Summer Time Serrara: BELVEDERE AL CALAR DEL SOLE MUSICA CON DJ 
 MANUELITO https://www.ischiaeventi.com/en/events/tradizioni/gastronomy/eve
 nt/31233-summer-time-serrara-belvedere-al-calar-del-sole-musica-con-dj-man
 uelito
DTSTART:20240719T170000Z
DTEND:20240719T215200Z
LOCATION:Piazzale di Serrara e belvedere (Piazza Pietro Paolo Iacono\, 5\, 
 80070 Serrara Fontana NA\, Italy)
SUMMARY:Summer Time Serrara: BELVEDERE AL CALAR DEL SOLE MUSICA CON DJ MANU
 ELITO
URL:https://www.ischiaeventi.com/en/events/tradizioni/gastronomy/event/3123
 3-summer-time-serrara-belvedere-al-calar-del-sole-musica-con-dj-manuelito
END:VEVENT
END:VCALENDAR
