BEGIN:VCALENDAR
VERSION:2.0
PRODID:-//https://www.ischiaeventi.com///NONSGML kigkonsult.se iCalcreator 2.10.15//
METHOD:PUBLISH
BEGIN:VEVENT
UID:20260420T143517UTC-9972z8dmsL@https://www.ischiaeventi.com/
DTSTAMP:20260420T143517Z
DESCRIPTION:Summer Time Serrara: 40° FESTIVAL DELLE COSE BUONE https://www.
 ischiaeventi.com/en/events/tradizioni/gastronomy/event/31230-summer-time-s
 errara-40-festival-delle-cose-buone
DTSTART:20240713T183000Z
DTEND:20240713T215200Z
LOCATION:Piazza Serrara (80070 Serrara Fontana NA\, Italia)
SUMMARY:Summer Time Serrara: 40° FESTIVAL DELLE COSE BUONE
URL:https://www.ischiaeventi.com/en/events/tradizioni/gastronomy/event/3123
 0-summer-time-serrara-40-festival-delle-cose-buone
END:VEVENT
END:VCALENDAR
