BEGIN:VCALENDAR
VERSION:2.0
PRODID:-//https://www.ischiaeventi.com///NONSGML kigkonsult.se iCalcreator 2.10.15//
METHOD:PUBLISH
BEGIN:VEVENT
UID:20260420T125315UTC-1845eUO9B3@https://www.ischiaeventi.com/
DTSTAMP:20260420T125315Z
DESCRIPTION:Esposizione Iacono Mattera Waschimps https://www.ischiaeventi.c
 om/en/events/tradizioni/gastronomy/event/28774-esposizione-iacono-mattera-
 waschimps
DTSTART:20240407T160000Z
DTEND:20240407T180000Z
LOCATION:Villa Arbusto museum (Corso Angelo Rizzoli\, 194\, 80076 Lacco Ame
 no NA\, Italia)
SUMMARY:Esposizione Iacono Mattera Waschimps
URL:https://www.ischiaeventi.com/en/events/tradizioni/gastronomy/event/2877
 4-esposizione-iacono-mattera-waschimps
END:VEVENT
END:VCALENDAR
