BEGIN:VCALENDAR
VERSION:2.0
PRODID:-//https://www.ischiaeventi.com///NONSGML kigkonsult.se iCalcreator 2.10.15//
METHOD:PUBLISH
BEGIN:VEVENT
UID:20260420T143517UTC-9977HHn2rt@https://www.ischiaeventi.com/
DTSTAMP:20260420T143517Z
DESCRIPTION:Concert by the catechism children of the Parishes of St. Mary o
 f Mount Carmel and St. Mary of Mercy at the parish church of St. Mary of M
 ercy. https://www.ischiaeventi.com/en/events/tradizioni/gastronomy/event/2
 49213-christmas-in-serrara-concert-by-the-catechism-children
DTSTART:20251228T180000Z
DTEND:20251228T200000Z
LOCATION:Comune di Serrara Fontana (Via Roma\, 79\, 80070 Serrara Fontana N
 A\, Italia)
SUMMARY:Christmas in Serrara: Concert by the catechism children
URL:https://www.ischiaeventi.com/en/events/tradizioni/gastronomy/event/2492
 13-christmas-in-serrara-concert-by-the-catechism-children
END:VEVENT
END:VCALENDAR
