BEGIN:VCALENDAR
VERSION:2.0
PRODID:-//https://www.ischiaeventi.com///NONSGML kigkonsult.se iCalcreator 2.10.15//
METHOD:PUBLISH
BEGIN:VEVENT
UID:20260420T154619UTC-8688CaV0U0@https://www.ischiaeventi.com/
DTSTAMP:20260420T154619Z
DESCRIPTION:Siamo alla XI edizione\, vi aspettiamo con il solito entusiasmo
  il 12 ottobre in piazza a Succhivo\, per deliziarvi con il tradizionale p
 ranzo in piazza\, durante l’evento\, i più piccini potranno divertirsi con
  l’animazione\, mentre tutti voi vi potrete godete tanta bella musica.  ht
 tps://www.ischiaeventi.com/en/events/tradizioni/gastronomy/event/204436-tu
 tti-a-tavola-2025
DTSTART:20251012T110000Z
DTEND:20251012T130000Z
LOCATION:Piazza Succhivo (Via Succhivo\, 80070 Sant'Angelo NA\, Italia)
SUMMARY:Tutti a tavola 2025
URL:https://www.ischiaeventi.com/en/events/tradizioni/gastronomy/event/2044
 36-tutti-a-tavola-2025
END:VEVENT
END:VCALENDAR
