BEGIN:VCALENDAR
VERSION:2.0
PRODID:-//https://www.ischiaeventi.com///NONSGML kigkonsult.se iCalcreator 2.10.15//
METHOD:PUBLISH
BEGIN:VEVENT
UID:20260424T101755UTC-8276cnjavV@https://www.ischiaeventi.com/
DTSTAMP:20260424T101755Z
DESCRIPTION:Mostra Veranica Acunto\nIngresso Libero\n&nbsp\; https://www.is
 chiaeventi.com/en/events/tradizioni/artistic-performances/event/68495-most
 ra-veronica-acunto
DTSTART:20250525T173000Z
DTEND:20250525T190000Z
LOCATION:Villa Arbusto museum (Corso Angelo Rizzoli\, 194\, 80076 Lacco Ame
 no NA\, Italia)
SUMMARY:Mostra Veronica Acunto
URL:https://www.ischiaeventi.com/en/events/tradizioni/artistic-performances
 /event/68495-mostra-veronica-acunto
END:VEVENT
END:VCALENDAR
