BEGIN:VCALENDAR
VERSION:2.0
PRODID:-//https://www.ischiaeventi.com///NONSGML kigkonsult.se iCalcreator 2.10.15//
METHOD:PUBLISH
BEGIN:VEVENT
UID:20260424T224941UTC-4325Da9Cv1@https://www.ischiaeventi.com/
DTSTAMP:20260424T224941Z
DESCRIPTION:CANTINANDO A NATALE visite guidate nelle antiche cantine ischit
 ane con degustazioni di prodotti tipici della tradizione natalizia nel car
 atteristico borgo di Panza https://www.ischiaeventi.com/en/events/tradizio
 ni/artistic-performances/event/34298-forio-merryland-cantinando-a-natale
DTSTART:20250102T150000Z
DTEND:20250102T175900Z
LOCATION:Comune di Forio (Piazza Municipio\, 1\, 80075 Forio NA\, Italia)
SUMMARY:Forio MerryLand: CANTINANDO A NATALE
URL:https://www.ischiaeventi.com/en/events/tradizioni/artistic-performances
 /event/34298-forio-merryland-cantinando-a-natale
END:VEVENT
END:VCALENDAR
