BEGIN:VCALENDAR
VERSION:2.0
PRODID:-//https://www.ischiaeventi.com///NONSGML kigkonsult.se iCalcreator 2.10.15//
METHOD:PUBLISH
BEGIN:VEVENT
UID:20260424T225357UTC-4412UIIDVD@https://www.ischiaeventi.com/
DTSTAMP:20260424T225357Z
DESCRIPTION:CONCERTO DI NATALE della Banda Musicale di Forionella Chiesa di
  Santa Maria di Loreto in Forio https://www.ischiaeventi.com/en/events/tra
 dizioni/artistic-performances/event/34284-forio-merryland-concerto-di-nata
 le
DTSTART:20241229T183000Z
DTEND:20241229T200000Z
LOCATION:Comune di Forio (Piazza Municipio\, 1\, 80075 Forio NA\, Italia)
SUMMARY:Forio MerryLand: CONCERTO DI NATALE
URL:https://www.ischiaeventi.com/en/events/tradizioni/artistic-performances
 /event/34284-forio-merryland-concerto-di-natale
END:VEVENT
END:VCALENDAR
