BEGIN:VCALENDAR
VERSION:2.0
PRODID:-//https://www.ischiaeventi.com///NONSGML kigkonsult.se iCalcreator 2.10.15//
METHOD:PUBLISH
BEGIN:VEVENT
UID:20260424T225010UTC-8872czvigJ@https://www.ischiaeventi.com/
DTSTAMP:20260424T225010Z
DESCRIPTION:11:30 SFILATA DI NATALE per il centro storico di Forio della st
 orica Banda Musicale di Forio\n&nbsp\; https://www.ischiaeventi.com/en/eve
 nts/tradizioni/artistic-performances/event/34116-forio-merryland-sfilata-d
 i-natale
DTSTART:20241225T103000Z
DTEND:20241225T130000Z
LOCATION:Comune di Forio (Piazza Municipio\, 1\, 80075 Forio NA\, Italia)
SUMMARY:Forio MerryLand: SFILATA DI NATALE
URL:https://www.ischiaeventi.com/en/events/tradizioni/artistic-performances
 /event/34116-forio-merryland-sfilata-di-natale
END:VEVENT
END:VCALENDAR
