BEGIN:VCALENDAR
VERSION:2.0
PRODID:-//https://www.ischiaeventi.com///NONSGML kigkonsult.se iCalcreator 2.10.15//
METHOD:PUBLISH
BEGIN:VEVENT
UID:20260425T003054UTC-9705Ex0eWO@https://www.ischiaeventi.com/
DTSTAMP:20260425T003054Z
DESCRIPTION:Forio MerryLand: CELEBRAZIONE DELLA SANTA MESSA DELLA VIGILIA D
 I NATALE  https://www.ischiaeventi.com/en/events/tradizioni/artistic-perfo
 rmances/event/34112-forio-merryland-celebrazione-della-santa-messa-della-v
 igilia-di-natale
DTSTART:20241224T043000Z
DTEND:20241224T060000Z
LOCATION:Comune di Forio (Piazza Municipio\, 1\, 80075 Forio NA\, Italia)
SUMMARY:Forio MerryLand: CELEBRAZIONE DELLA SANTA MESSA DELLA VIGILIA DI NA
 TALE 
URL:https://www.ischiaeventi.com/en/events/tradizioni/artistic-performances
 /event/34112-forio-merryland-celebrazione-della-santa-messa-della-vigilia-
 di-natale
END:VEVENT
END:VCALENDAR
