BEGIN:VCALENDAR
VERSION:2.0
PRODID:-//https://www.ischiaeventi.com///NONSGML kigkonsult.se iCalcreator 2.10.15//
METHOD:PUBLISH
BEGIN:VEVENT
UID:20260424T100927UTC-7863Cdoxxi@https://www.ischiaeventi.com/
DTSTAMP:20260424T100927Z
DESCRIPTION:Il Canto delle sirene https://www.ischiaeventi.com/en/events/tr
 adizioni/artistic-performances/event/31854-il-canto-delle-sirene
DTSTART:20240824T190000Z
DTEND:20240824T215900Z
LOCATION:Villa Arbusto museum (Corso Angelo Rizzoli\, 194\, 80076 Lacco Ame
 no NA\, Italia)
SUMMARY:Il Canto delle sirene
URL:https://www.ischiaeventi.com/en/events/tradizioni/artistic-performances
 /event/31854-il-canto-delle-sirene
END:VEVENT
END:VCALENDAR
