BEGIN:VCALENDAR
VERSION:2.0
PRODID:-//https://www.ischiaeventi.com///NONSGML kigkonsult.se iCalcreator 2.10.15//
METHOD:PUBLISH
BEGIN:VEVENT
UID:20260424T090856UTC-4042tUNWbj@https://www.ischiaeventi.com/
DTSTAMP:20260424T090856Z
DESCRIPTION: https://www.ischiaeventi.com/en/events/tradizioni/artistic-per
 formances/event/31002-inaugurazione-mostra-personale-tea-costa
DTSTART:20240719T163000Z
DTEND:20240719T190000Z
LOCATION:Torre del Molino (Spiaggia dei Pescatori\, 80077 Ischia NA\, Itali
 a)
SUMMARY:Inaugurazione Mostra personale Tea Costa
URL:https://www.ischiaeventi.com/en/events/tradizioni/artistic-performances
 /event/31002-inaugurazione-mostra-personale-tea-costa
END:VEVENT
END:VCALENDAR
