BEGIN:VCALENDAR
VERSION:2.0
PRODID:-//https://www.ischiaeventi.com///NONSGML kigkonsult.se iCalcreator 2.10.15//
METHOD:PUBLISH
BEGIN:VEVENT
UID:20260424T230721UTC-8724i2VDVv@https://www.ischiaeventi.com/
DTSTAMP:20260424T230721Z
DESCRIPTION:Roberta Tondelli: Tutta 'a vita affacciata all'ammore https://w
 ww.ischiaeventi.com/en/events/tradizioni/artistic-performances/event/30776
 -roberta-tondelli-tutta-a-vita-affacciata-allammore
DTSTART:20240620T160000Z
DTEND:20240620T180000Z
LOCATION:Biblioteca Antoniana (Rampe S.Antonio\, 5\, 80077 - Ischia)
SUMMARY:Roberta Tondelli: Tutta 'a vita affacciata all'ammore
URL:https://www.ischiaeventi.com/en/events/tradizioni/artistic-performances
 /event/30776-roberta-tondelli-tutta-a-vita-affacciata-allammore
END:VEVENT
END:VCALENDAR
