BEGIN:VCALENDAR
VERSION:2.0
PRODID:-//https://www.ischiaeventi.com///NONSGML kigkonsult.se iCalcreator 2.10.15//
METHOD:PUBLISH
BEGIN:VEVENT
UID:20260424T135143UTC-3861nLu7fU@https://www.ischiaeventi.com/
DTSTAMP:20260424T135143Z
DESCRIPTION: Venerdì 12 Aprile - 𝗙𝗿𝗮𝗻𝗰𝗲𝘀𝗰𝗼 𝗣𝗿𝗼𝗰𝗼𝗽𝗶𝗼 il giovane talento dell
 a comicità\, ti farà sorridere con le sue storie di vita quotidiana e le s
 ue osservazioni sagaci. https://www.ischiaeventi.com/en/events/tradizioni/
 artistic-performances/event/27943-il-grande-spettacolo-al-cinema-excelsior
 -di-ischia-francesco-procopio
DTSTART:20240412T180000Z
DTEND:20240412T203000Z
LOCATION:Cinema Excelsior (Via Francesco Sogliuzzo\, 18\, 80077 Ischia NA\,
  Italia)
SUMMARY:Il grande spettacolo al cinema excelsior di Ischia: Francesco Proco
 pio
URL:https://www.ischiaeventi.com/en/events/tradizioni/artistic-performances
 /event/27943-il-grande-spettacolo-al-cinema-excelsior-di-ischia-francesco-
 procopio
END:VEVENT
END:VCALENDAR
