BEGIN:VCALENDAR
VERSION:2.0
PRODID:-//https://www.ischiaeventi.com///NONSGML kigkonsult.se iCalcreator 2.10.15//
METHOD:PUBLISH
BEGIN:VEVENT
UID:20260424T041119UTC-9825iEXfJL@https://www.ischiaeventi.com/
DTSTAMP:20260424T041119Z
DESCRIPTION:PURE FANTASY: SEEING BEYOND FORMSby Domenico Iacono\nApril 24–2
 7\, 2026Opening hours: 10:30–13:00 | 15:30–20:00\nApril 24 at 7:00 PM – Ve
 rnissage (Opening Event)\nLocation:Torre del Molino (former Bourbon Prison
 )Spiaggia della Mandra – Ischia https://www.ischiaeventi.com/en/events/tra
 dizioni/artistic-performances/event/249860-vernissage-pure-fantasy---seein
 g-beyond-forms
DTSTART:20260424T083000Z
DTEND:20260424T180000Z
LOCATION:Torre del Molino (Spiaggia dei Pescatori\, 80077 Ischia NA\, Itali
 a)
SUMMARY:Vernissage: PURE FANTASY – SEEING BEYOND FORMS
URL:https://www.ischiaeventi.com/en/events/tradizioni/artistic-performances
 /event/249860-vernissage-pure-fantasy---seeing-beyond-forms
END:VEVENT
END:VCALENDAR
