BEGIN:VCALENDAR
VERSION:2.0
PRODID:-//https://www.ischiaeventi.com///NONSGML kigkonsult.se iCalcreator 2.10.15//
METHOD:PUBLISH
BEGIN:VEVENT
UID:20260424T041214UTC-0753SugJhJ@https://www.ischiaeventi.com/
DTSTAMP:20260424T041214Z
DESCRIPTION:In collaboration with the Municipality of Lacco AmenoMassimo Bo
 tto\, Research Director at CNR and Professor of Phoenician-Punic Archaeolo
 gyat the OrSaa School of Specialization https://www.ischiaeventi.com/en/ev
 ents/tradizioni/artistic-performances/event/249829-project-kepos-phoenicia
 ns-in-ischia-traces-of-levantines-at-pithekoussai
DTSTART:20260507T170000Z
DTEND:20260507T190000Z
LOCATION:Museo Archeologico Pithecusa (Corso Angelo Rizzoli\, 210\, 80076 L
 acco Ameno NA\, Italia)
SUMMARY:Project Kepos: Phoenicians in Ischia? Traces of Levantines at Pithe
 koussai
URL:https://www.ischiaeventi.com/en/events/tradizioni/artistic-performances
 /event/249829-project-kepos-phoenicians-in-ischia-traces-of-levantines-at-
 pithekoussai
END:VEVENT
END:VCALENDAR
