BEGIN:VCALENDAR
VERSION:2.0
PRODID:-//https://www.ischiaeventi.com///NONSGML kigkonsult.se iCalcreator 2.10.15//
METHOD:PUBLISH
BEGIN:VEVENT
UID:20260424T070650UTC-1532FduFsL@https://www.ischiaeventi.com/
DTSTAMP:20260424T070650Z
DESCRIPTION:Innovation and diplomacy in the Kingdom of NaplesEmma and Carol
 ina\, muse and queen of English gardening in CasertaPaola Viola\, Landscap
 e Curator at the Service for the Safeguarding and Enhancement of the Royal
  Palace of Caserta https://www.ischiaeventi.com/en/events/tradizioni/artis
 tic-performances/event/249828-project-kepos-innovation-and-diplomacy-in-th
 e-kingdom-of-naples
DTSTART:20260416T170000Z
DTEND:20260416T190000Z
LOCATION:Giardini La Mortella (Via Francesco Calise\, 39 - 80075 Forio NA\,
  Italia)
SUMMARY:Project Kepos: Innovation and Diplomacy in the Kingdom of Naples
URL:https://www.ischiaeventi.com/en/events/tradizioni/artistic-performances
 /event/249828-project-kepos-innovation-and-diplomacy-in-the-kingdom-of-nap
 les
END:VEVENT
END:VCALENDAR
