BEGIN:VCALENDAR
VERSION:2.0
PRODID:-//https://www.ischiaeventi.com///NONSGML kigkonsult.se iCalcreator 2.10.15//
METHOD:PUBLISH
BEGIN:VEVENT
UID:20260424T230228UTC-88089tEvvp@https://www.ischiaeventi.com/
DTSTAMP:20260424T230228Z
DESCRIPTION:Flamma repente: earthquakes\, landslides\, and eruptions in Isc
 hia from the Neolithic to the Greek period\nInstitutional greetings:Lucia 
 AnnicelliDirector of the Biblioteca Comunale Antoniana\nCaterina MazzellaP
 resident of the Parco Culturale Ischia\nSpeaker:Mariangela CatuognoArchaeo
 logist https://www.ischiaeventi.com/en/events/tradizioni/artistic-performa
 nces/event/249576-flamma-repente-earthquakes-landslides-and-eruptions-in-i
 schia-from-the-neolithic-to-the-greek-period
DTSTART:20260227T170000Z
DTEND:20260227T190000Z
LOCATION:Biblioteca Antoniana (Rampe S.Antonio\, 5\, 80077 - Ischia)
SUMMARY:Flamma repente: earthquakes\, landslides\, and eruptions in Ischia 
 from the Neolithic to the Greek period
URL:https://www.ischiaeventi.com/en/events/tradizioni/artistic-performances
 /event/249576-flamma-repente-earthquakes-landslides-and-eruptions-in-ischi
 a-from-the-neolithic-to-the-greek-period
END:VEVENT
END:VCALENDAR
