BEGIN:VCALENDAR
VERSION:2.0
PRODID:-//https://www.ischiaeventi.com///NONSGML kigkonsult.se iCalcreator 2.10.15//
METHOD:PUBLISH
BEGIN:VEVENT
UID:20260424T230538UTC-7756KlD8eT@https://www.ischiaeventi.com/
DTSTAMP:20260424T230538Z
DESCRIPTION:INTERNATIONALFriday\, January 23\, 6:30 p.m. – Antoniana Librar
 yTribute to Antonietta Giusto2016–2026\nSpeakers:Carmine Barile\, Davide C
 onte\, Dario Della Vecchia\, Vanna Di Meglio\, Anna Fermo\, Restituta Irac
 e\, Raffaele Montuori\, Lina Tufano\n&nbsp\; https://www.ischiaeventi.com/
 en/events/tradizioni/artistic-performances/event/249448-tribute-to-antonie
 tta-giusto
DTSTART:20260123T173000Z
DTEND:20260123T190000Z
LOCATION:Biblioteca Antoniana (Rampe S.Antonio\, 5\, 80077 - Ischia)
SUMMARY:Tribute to Antonietta Giusto 
URL:https://www.ischiaeventi.com/en/events/tradizioni/artistic-performances
 /event/249448-tribute-to-antonietta-giusto
END:VEVENT
END:VCALENDAR
