BEGIN:VCALENDAR
VERSION:2.0
PRODID:-//https://www.ischiaeventi.com///NONSGML kigkonsult.se iCalcreator 2.10.15//
METHOD:PUBLISH
BEGIN:VEVENT
UID:20260424T102209UTC-4300e0sH4P@https://www.ischiaeventi.com/
DTSTAMP:20260424T102209Z
DESCRIPTION:Ischia on the catwalk curated by Daniela Scotti\n&nbsp\;\n http
 s://www.ischiaeventi.com/en/events/tradizioni/artistic-performances/event/
 249298-christmas-in-ischia-ischia-on-the-catwalk
DTSTART:20251214T150000Z
DTEND:20251214T190000Z
LOCATION:Palazzo Reale (Via Iasolino\, 18\, 80077 Ischia NA\, Italia)
SUMMARY:Christmas in Ischia: Ischia on the catwalk 
URL:https://www.ischiaeventi.com/en/events/tradizioni/artistic-performances
 /event/249298-christmas-in-ischia-ischia-on-the-catwalk
END:VEVENT
END:VCALENDAR
