BEGIN:VCALENDAR
VERSION:2.0
PRODID:-//https://www.ischiaeventi.com///NONSGML kigkonsult.se iCalcreator 2.10.15//
METHOD:PUBLISH
BEGIN:VEVENT
UID:20260424T230833UTC-4736Gn7U98@https://www.ischiaeventi.com/
DTSTAMP:20260424T230833Z
DESCRIPTION:A radiant journey through cultures and jewels curated by Il Ris
 veglio di Partenope. Light in the AbyssGiovan Giuseppe Lanfreschi(Ischia C
 ultural Park) https://www.ischiaeventi.com/en/events/tradizioni/artistic-p
 erformances/event/249179-christmas-at-the-antoniana-magical-wishes-on-the-
 island-of-light
DTSTART:20251204T163000Z
DTEND:20251204T180000Z
LOCATION:Biblioteca Antoniana (Rampe S.Antonio\, 5\, 80077 - Ischia)
SUMMARY:Christmas at the Antoniana: Magical Wishes on the Island of Light
URL:https://www.ischiaeventi.com/en/events/tradizioni/artistic-performances
 /event/249179-christmas-at-the-antoniana-magical-wishes-on-the-island-of-l
 ight
END:VEVENT
END:VCALENDAR
