BEGIN:VCALENDAR
VERSION:2.0
PRODID:-//https://www.ischiaeventi.com///NONSGML kigkonsult.se iCalcreator 2.10.15//
METHOD:PUBLISH
BEGIN:VEVENT
UID:20260424T224839UTC-66574uMGtU@https://www.ischiaeventi.com/
DTSTAMP:20260424T224839Z
DESCRIPTION:ISCHIA GOSPEL EXPLOSION\, FESTIVAL INTERNAZIONALE DI MUSICA GOS
 PEL TRADITIONAL\, BLACK &amp\; CONTEMPORARY https://www.ischiaeventi.com/e
 n/events/tradizioni/artistic-performances/event/103202-estate-forio-2025-i
 schia-gospel-explosion
DTSTART:20250719T190000Z
DTEND:20250719T215900Z
LOCATION:Piazzale del Soccorso (Via del Soccorso\, 6\, 80075 Forio NA\, Ita
 lia)
SUMMARY:Estate Forio 2025: Ischia Gospel Explosion
URL:https://www.ischiaeventi.com/en/events/tradizioni/artistic-performances
 /event/103202-estate-forio-2025-ischia-gospel-explosion
END:VEVENT
END:VCALENDAR
