BEGIN:VCALENDAR
VERSION:2.0
PRODID:-//https://www.ischiaeventi.com///NONSGML kigkonsult.se iCalcreator 2.10.15//
METHOD:PUBLISH
BEGIN:VEVENT
UID:20260424T111236UTC-65807NRZWV@https://www.ischiaeventi.com/
DTSTAMP:20260424T111236Z
DESCRIPTION:19.30 UNA MAGIA DA VIVERE IN MUSICA concerto degli allievi con 
 pianoforte a coda nell’Oratorio della Chiesa S. Maria di Loreto in Forio h
 ttps://www.ischiaeventi.com/en/events/intrattenimento/theatre/event/34108-
 forio-merryland-una-magia-da-vivere-in-musica
DTSTART:20241222T183000Z
DTEND:20241222T200000Z
LOCATION:Comune di Forio (Piazza Municipio\, 1\, 80075 Forio NA\, Italia)
SUMMARY:Forio MerryLand: UNA MAGIA DA VIVERE IN MUSICA
URL:https://www.ischiaeventi.com/en/events/intrattenimento/theatre/event/34
 108-forio-merryland-una-magia-da-vivere-in-musica
END:VEVENT
END:VCALENDAR
