BEGIN:VCALENDAR
VERSION:2.0
PRODID:-//https://www.ischiaeventi.com///NONSGML kigkonsult.se iCalcreator 2.10.15//
METHOD:PUBLISH
BEGIN:VEVENT
UID:20260424T232808UTC-95511TXo7o@https://www.ischiaeventi.com/
DTSTAMP:20260424T232808Z
DESCRIPTION:Summer Time Serrara: MUSICNIGHT CON I PERSONAL https://www.isch
 iaeventi.com/en/events/intrattenimento/theatre/event/31252-summer-time-ser
 rara-musicnight-con-i-personal
DTSTART:20240829T190000Z
DTEND:20240829T210000Z
LOCATION:Succhivo (Provinciale Succhivo Sant'Angelo\, 21-27\, 80070 Sant'An
 gelo NA\, Italy)
SUMMARY:Summer Time Serrara: MUSICNIGHT CON I PERSONAL
URL:https://www.ischiaeventi.com/en/events/intrattenimento/theatre/event/31
 252-summer-time-serrara-musicnight-con-i-personal
END:VEVENT
END:VCALENDAR
