BEGIN:VCALENDAR
VERSION:2.0
PRODID:-//https://www.ischiaeventi.com///NONSGML kigkonsult.se iCalcreator 2.10.15//
METHOD:PUBLISH
BEGIN:VEVENT
UID:20260424T113907UTC-2675A5Ra5O@https://www.ischiaeventi.com/
DTSTAMP:20260424T113907Z
DESCRIPTION:Pio e Amedeo in show al Negombo https://www.ischiaeventi.com/en
 /events/intrattenimento/theatre/event/30492-pio-e-amedeo-show
DTSTART:20240821T193000Z
DTEND:20240821T213000Z
LOCATION:Parco Termale Negombo (Baia di S. Montano\, - 80076 Lacco Ameno NA
 \, Italia)
SUMMARY:Pio e Amedeo show
URL:https://www.ischiaeventi.com/en/events/intrattenimento/theatre/event/30
 492-pio-e-amedeo-show
END:VEVENT
END:VCALENDAR
