BEGIN:VCALENDAR
VERSION:2.0
PRODID:-//https://www.ischiaeventi.com///NONSGML kigkonsult.se iCalcreator 2.10.15//
METHOD:PUBLISH
BEGIN:VEVENT
UID:20260424T064224UTC-9524UT7kjm@https://www.ischiaeventi.com/
DTSTAMP:20260424T064224Z
DESCRIPTION:La mostra è visitabile dal martedì alla domenica dalle 19.00 al
 le 24.00\, i quadri in esposizione sono disponibili per eventuali acquisti
 . https://www.ischiaeventi.com/en/events/intrattenimento/theatre/event/291
 42-mostra-fotografica-punti-di-vista
DTSTART;VALUE=DATE:20240425
LOCATION:Kiwi Jam (Via Luigi Mazzella\, 42\, 80077 Ischia NA\, Italia)
SUMMARY:Mostra fotografica punti di vista
URL:https://www.ischiaeventi.com/en/events/intrattenimento/theatre/event/29
 142-mostra-fotografica-punti-di-vista
END:VEVENT
END:VCALENDAR
