BEGIN:VCALENDAR
VERSION:2.0
PRODID:-//https://www.ischiaeventi.com///NONSGML kigkonsult.se iCalcreator 2.10.15//
METHOD:PUBLISH
BEGIN:VEVENT
UID:20260424T093718UTC-7350xKsRC7@https://www.ischiaeventi.com/
DTSTAMP:20260424T093718Z
DESCRIPTION:Mostra Veranica Acunto\nIngresso Libero\n&nbsp\; https://www.is
 chiaeventi.com/en/events/intrattenimento/music/event/68471-mostra-veronica
 -acunto
DTSTART:20250501T173000Z
DTEND:20250501T190000Z
LOCATION:Villa Arbusto museum (Corso Angelo Rizzoli\, 194\, 80076 Lacco Ame
 no NA\, Italia)
SUMMARY:Mostra Veronica Acunto
URL:https://www.ischiaeventi.com/en/events/intrattenimento/music/event/6847
 1-mostra-veronica-acunto
END:VEVENT
END:VCALENDAR
