BEGIN:VCALENDAR
VERSION:2.0
PRODID:-//https://www.ischiaeventi.com///NONSGML kigkonsult.se iCalcreator 2.10.15//
METHOD:PUBLISH
BEGIN:VEVENT
UID:20260424T180819UTC-33217wVvPG@https://www.ischiaeventi.com/
DTSTAMP:20260424T180819Z
DESCRIPTION:Big event per i più piccoli Mercoledì 18 dicembre per i più pic
 coli arriva LUCILLAEvento organizzato dal Comune di Ischia https://www.isc
 hiaeventi.com/en/events/intrattenimento/music/event/39785-arriva-lucilla
DTSTART:20241218T160000Z
DTEND:20241218T175700Z
LOCATION:Piazza degli Eroi (Piazza Degli Eroi\, 80077 Ischia NA\, Italia)
SUMMARY:Arriva LUCILLA 
URL:https://www.ischiaeventi.com/en/events/intrattenimento/music/event/3978
 5-arriva-lucilla
END:VEVENT
END:VCALENDAR
