BEGIN:VCALENDAR
VERSION:2.0
PRODID:-//https://www.ischiaeventi.com///NONSGML kigkonsult.se iCalcreator 2.10.15//
METHOD:PUBLISH
BEGIN:VEVENT
UID:20260424T113612UTC-6075x8USjJ@https://www.ischiaeventi.com/
DTSTAMP:20260424T113612Z
DESCRIPTION:Venerdì 16 Febbraio - 𝗙𝗿𝗮𝗻𝗰𝗲𝘀𝗰𝗼 𝗖𝗶𝗰𝗰𝗵𝗲𝗹𝗹𝗮 il re delle imitazion
 i\, ti farà ridere con le sue parodie di personaggi famosi e le sue battut
 e irresistibili. https://www.ischiaeventi.com/en/events/intrattenimento/mu
 sic/event/27940-il-grande-spettacolo-al-cinema-excelsior-di-ischia-frances
 co-cicchella
DTSTART:20240216T190000Z
DTEND:20240216T213000Z
LOCATION:Cinema Excelsior (Via Francesco Sogliuzzo\, 18\, 80077 Ischia NA\,
  Italia)
SUMMARY:Il grande spettacolo al cinema excelsior di Ischia: Francesco Cicch
 ella
URL:https://www.ischiaeventi.com/en/events/intrattenimento/music/event/2794
 0-il-grande-spettacolo-al-cinema-excelsior-di-ischia-francesco-cicchella
END:VEVENT
END:VCALENDAR
